BEGIN:VCALENDAR
VERSION:2.0
PRODID:-//Théâtre La courte échelle - ECPv6.10.2//NONSGML v1.0//EN
CALSCALE:GREGORIAN
METHOD:PUBLISH
X-WR-CALNAME:Théâtre La courte échelle
X-ORIGINAL-URL:https://theatre-courte-echelle.fr
X-WR-CALDESC:Évènements pour Théâtre La courte échelle
REFRESH-INTERVAL;VALUE=DURATION:PT1H
X-Robots-Tag:noindex
X-PUBLISHED-TTL:PT1H
BEGIN:VTIMEZONE
TZID:UTC
BEGIN:STANDARD
TZOFFSETFROM:+0000
TZOFFSETTO:+0000
TZNAME:UTC
DTSTART:20250101T000000
END:STANDARD
END:VTIMEZONE
BEGIN:VEVENT
DTSTART;VALUE=DATE:20250425
DTEND;VALUE=DATE:20250426
DTSTAMP:20260424T160311
CREATED:20250325T144003Z
LAST-MODIFIED:20250326T141342Z
UID:2889-1745539200-1745625599@theatre-courte-echelle.fr
SUMMARY:L’arbre et l’oiseau (titre provisoire) – Cie les Petites Motnotes
DESCRIPTION:Histoire en ombres et musiques pour les 18 mois – 4 ans\nDurée : env. 30 min \nVENDREDI 25 AVRIL 2025 à 9h30 et 10h30\nThéâtre de la Courte Echelle (sortie de résidence) \nLe spectacle nous plonge dans le quotidien d’un oiseau qui s’est construit un nid trop dangereux pour lui. Ce nid\, son chez-lui\, sa maison\, son intérieur\, il se l’est construit avec les feuilles d’arbre qu’il ne veut pas laisser tomber\, qu’il veut absolument garder. Cet arbre est comme un arbre-monde\, le monde du petit oiseau\, son entourage… ce petit monde qui est fait de commencements et de séparations.\nA force de déni\, il ne se sent plus bien chez lui\, son chez-lui est devenu trop lourd\, trop gros… Mais la montagne sera là pour le guider afin qu’il arrive à se délester en confiant ses feuilles au vent et à l’eau\, ces éléments qui sont ici et là\, partout à la fois.\nUn spectacle qui parle du lien d’attachement\, d’amour\, du mystère du cycle de la vie et qui nous rappelle l’éternelle puissance de la nature.\nLa compagnie travaille sur un propos naïf et profond à la fois.\nPlusieurs lectures seront possibles : tous ces deuils qui font de la vie\, une étape pour les plus petits : apprentissage de la propreté\, séparation à la crèche\, entrée à l’école\, le partage… toutes ces choses dont on a du mal à se séparer jusqu’au deuil d’une personne aimée… \nDe et avec :\nMireille DIDIER RONZON (conteuse)\nJessy RAGEY (musicienne)\nIrène VILLE (conteuse) \nRégisseur : Adrien VERNAY \nSite de la compagnie\n\nInformation et réservation : infos@courte-echelle.fr ou au 04 75 02 20 76
URL:https://theatre-courte-echelle.fr/evenement/larbre-et-loiseau-cie-petites-motnotes/
LOCATION:Théâtre de la courte échelle\, Quai Sainte-Claire\, ROMANS-SUR-ISERE\, 26100\, France
CATEGORIES:Théâtre la Courte Échelle,Vacances scolaires
ATTACH;FMTTYPE=image/jpeg:https://theatre-courte-echelle.fr/wp-content/uploads/2025/03/Larbre-et-loiseau.jpg
END:VEVENT
END:VCALENDAR